BEGIN:VCALENDAR
PRODID:-//Microsoft Corporation//Outlook 11.0 MIMEDIR//EN
VERSION:2.0
METHOD:PUBLISH
BEGIN:VEVENT
DTSTART:2009-04-17T01:00:00Z
DTEND:2009-04-17T03:30:00Z
LOCATION:HV1: Hidden Valley, Field 1
CATEGORIES:Softball,Milliman Fighting Actuaries,BB/SAA
UID:2E3EC35FB2B7341948CE2BE9B80CBB3:
DTSTAMP:2026-04-21T05:33:46Z:
SUMMARY:Milliman Fighting Actuaries at Dukes
DESCRIPTION;ENCODING=QUOTED-PRINTABLE:Milliman Fighting Actuaries at Dukes=0D=0A Time: 6:00 PM=0D=0A Location: Hidden Valley, Field 1
CLASS:PUBLIC
PRIORITY:5
BEGIN:VALARM
TRIGGER:-PT180M
ACTION:DISPLAY
DESCRIPTION:Reminder
END:VALARM
END:VEVENT
BEGIN:VEVENT
DTSTART:2009-04-24T01:00:00Z
DTEND:2009-04-24T03:30:00Z
LOCATION:SAM2: Sammamish High School, Field 2
CATEGORIES:Softball,Milliman Fighting Actuaries,BB/SAA
UID:9F995E8973341348A19B2B41C4D7D972:
DTSTAMP:2026-04-21T05:33:46Z:
SUMMARY:Drillers/D3VO at Milliman Fighting Actuaries
DESCRIPTION;ENCODING=QUOTED-PRINTABLE:Drillers/D3VO at Milliman Fighting Actuaries=0D=0A Time: 6:00 PM=0D=0A Location: Sammamish High School, Field 2
CLASS:PUBLIC
PRIORITY:5
BEGIN:VALARM
TRIGGER:-PT180M
ACTION:DISPLAY
DESCRIPTION:Reminder
END:VALARM
END:VEVENT
BEGIN:VEVENT
DTSTART:2009-05-01T03:00:00Z
DTEND:2009-05-01T05:30:00Z
LOCATION:MM8: Marymoor, Field 8
CATEGORIES:Softball,Milliman Fighting Actuaries,BB/SAA
UID:2A5222294081E64493FA396A11C69C34:
DTSTAMP:2026-04-21T05:33:46Z:
SUMMARY:Milliman Fighting Actuaries at Overlake Christian
DESCRIPTION;ENCODING=QUOTED-PRINTABLE:Milliman Fighting Actuaries at Overlake Christian=0D=0A Time: 8:00 PM=0D=0A Location: Marymoor, Field 8
CLASS:PUBLIC
PRIORITY:5
BEGIN:VALARM
TRIGGER:-PT300M
ACTION:DISPLAY
DESCRIPTION:Reminder
END:VALARM
END:VEVENT
BEGIN:VEVENT
DTSTART:2009-05-08T03:30:00Z
DTEND:2009-05-08T06:00:00Z
LOCATION:HV1: Hidden Valley, Field 1
CATEGORIES:Softball,Milliman Fighting Actuaries,BB/SAA
UID:3A2579979A91459E86B976FB116FCB:
DTSTAMP:2026-04-21T05:33:46Z:
SUMMARY:Cook's Flooring at Milliman Fighting Actuaries
DESCRIPTION;ENCODING=QUOTED-PRINTABLE:Cook's Flooring at Milliman Fighting Actuaries=0D=0A Time: 8:30 PM=0D=0A Location: Hidden Valley, Field 1
CLASS:PUBLIC
PRIORITY:5
BEGIN:VALARM
TRIGGER:-PT330M
ACTION:DISPLAY
DESCRIPTION:Reminder
END:VALARM
END:VEVENT
BEGIN:VEVENT
DTSTART:2009-05-15T03:30:00Z
DTEND:2009-05-15T06:00:00Z
LOCATION:MM7: Marymoor, Field 7
CATEGORIES:Softball,Milliman Fighting Actuaries,BB/SAA
UID:B9A165955754445B55096A9671F9A6F:
DTSTAMP:2026-04-21T05:33:46Z:
SUMMARY:Just A Bit Outside at Milliman Fighting Actuaries
DESCRIPTION;ENCODING=QUOTED-PRINTABLE:Just A Bit Outside at Milliman Fighting Actuaries=0D=0A Time: 8:30 PM=0D=0A Location: Marymoor, Field 7
CLASS:PUBLIC
PRIORITY:5
BEGIN:VALARM
TRIGGER:-PT330M
ACTION:DISPLAY
DESCRIPTION:Reminder
END:VALARM
END:VEVENT
BEGIN:VEVENT
DTSTART:2009-05-22T01:00:00Z
DTEND:2009-05-22T03:30:00Z
LOCATION:MM7: Marymoor, Field 7
CATEGORIES:Softball,Milliman Fighting Actuaries,BB/SAA
UID:6ECC942BA87BD41A268C18BD49E68C:
DTSTAMP:2026-04-21T05:33:46Z:
SUMMARY:Bubs, The at Milliman Fighting Actuaries
DESCRIPTION;ENCODING=QUOTED-PRINTABLE:Bubs, The at Milliman Fighting Actuaries=0D=0A Time: 6:00 PM=0D=0A Location: Marymoor, Field 7
CLASS:PUBLIC
PRIORITY:5
BEGIN:VALARM
TRIGGER:-PT180M
ACTION:DISPLAY
DESCRIPTION:Reminder
END:VALARM
END:VEVENT
BEGIN:VEVENT
DTSTART:2009-05-29T01:00:00Z
DTEND:2009-05-29T03:30:00Z
LOCATION:MM7: Marymoor, Field 7
CATEGORIES:Softball,Milliman Fighting Actuaries,BB/SAA
UID:FE8272703228C945906425FE684AB7B:
DTSTAMP:2026-04-21T05:33:46Z:
SUMMARY:Milliman Fighting Actuaries at WSP/PSES
DESCRIPTION;ENCODING=QUOTED-PRINTABLE:Milliman Fighting Actuaries at WSP/PSES=0D=0A Time: 6:00 PM=0D=0A Location: Marymoor, Field 7
CLASS:PUBLIC
PRIORITY:5
BEGIN:VALARM
TRIGGER:-PT180M
ACTION:DISPLAY
DESCRIPTION:Reminder
END:VALARM
END:VEVENT
BEGIN:VEVENT
DTSTART:2009-06-05T01:00:00Z
DTEND:2009-06-05T03:30:00Z
LOCATION:SAM1: Sammamish High School, Field 1
CATEGORIES:Softball,Milliman Fighting Actuaries,BB/SAA
UID:B8716C18328AD43901B608749E2B0A9:
DTSTAMP:2026-04-21T05:33:46Z:
SUMMARY:Milliman Fighting Actuaries at Dukes
DESCRIPTION;ENCODING=QUOTED-PRINTABLE:Milliman Fighting Actuaries at Dukes=0D=0A Time: 6:00 PM=0D=0A Location: Sammamish High School, Field 1
CLASS:PUBLIC
PRIORITY:5
BEGIN:VALARM
TRIGGER:-PT180M
ACTION:DISPLAY
DESCRIPTION:Reminder
END:VALARM
END:VEVENT
BEGIN:VEVENT
DTSTART:2009-06-12T03:30:00Z
DTEND:2009-06-12T06:00:00Z
LOCATION:HV1: Hidden Valley, Field 1
CATEGORIES:Softball,Milliman Fighting Actuaries,BB/SAA
UID:E54D82E0964C64F823745A5FAC9D33:
DTSTAMP:2026-04-21T05:33:46Z:
SUMMARY:Milliman Fighting Actuaries at Drillers/D3VO
DESCRIPTION;ENCODING=QUOTED-PRINTABLE:Milliman Fighting Actuaries at Drillers/D3VO=0D=0A Time: 8:30 PM=0D=0A Location: Hidden Valley, Field 1
CLASS:PUBLIC
PRIORITY:5
BEGIN:VALARM
TRIGGER:-PT330M
ACTION:DISPLAY
DESCRIPTION:Reminder
END:VALARM
END:VEVENT
BEGIN:VEVENT
DTSTART:2009-06-19T01:00:00Z
DTEND:2009-06-19T03:30:00Z
LOCATION:MM7: Marymoor, Field 7
CATEGORIES:Softball,Milliman Fighting Actuaries,BB/SAA
UID:AB8B61033ECF0439ED82A6AD4A2FBEB:
DTSTAMP:2026-04-21T05:33:46Z:
SUMMARY:Cook's Flooring at Milliman Fighting Actuaries
DESCRIPTION;ENCODING=QUOTED-PRINTABLE:Cook's Flooring at Milliman Fighting Actuaries=0D=0A Time: 6:00 PM=0D=0A Location: Marymoor, Field 7
CLASS:PUBLIC
PRIORITY:5
BEGIN:VALARM
TRIGGER:-PT180M
ACTION:DISPLAY
DESCRIPTION:Reminder
END:VALARM
END:VEVENT
BEGIN:VEVENT
DTSTART:2009-07-03T03:30:00Z
DTEND:2009-07-03T06:00:00Z
LOCATION:MM7: Marymoor, Field 7
CATEGORIES:Softball,Milliman Fighting Actuaries,BB/SAA
UID:703CB243D4F3EB4EBC9F3B66F88C642F:
DTSTAMP:2026-04-21T05:33:46Z:
SUMMARY:Just A Bit Outside at Milliman Fighting Actuaries
DESCRIPTION;ENCODING=QUOTED-PRINTABLE:Just A Bit Outside at Milliman Fighting Actuaries=0D=0A Time: 8:30 PM=0D=0A Location: Marymoor, Field 7
CLASS:PUBLIC
PRIORITY:5
BEGIN:VALARM
TRIGGER:-PT330M
ACTION:DISPLAY
DESCRIPTION:Reminder
END:VALARM
END:VEVENT
END:VCALENDAR
