BEGIN:VCALENDAR
PRODID:-//Microsoft Corporation//Outlook 11.0 MIMEDIR//EN
VERSION:2.0
METHOD:PUBLISH
BEGIN:VEVENT
DTSTART:2009-04-17T03:30:00Z
DTEND:2009-04-17T06:00:00Z
LOCATION:MM7: Marymoor, Field 7
CATEGORIES:Softball,Just A Bit Outside,BB/SAA
UID:23426674D1D1DF4AB660422AD2542C61:
DTSTAMP:2026-04-21T05:42:31Z:
SUMMARY:Drillers/D3VO at Just A Bit Outside
DESCRIPTION;ENCODING=QUOTED-PRINTABLE:Drillers/D3VO at Just A Bit Outside=0D=0A Time: 8:30 PM=0D=0A Location: Marymoor, Field 7
CLASS:PUBLIC
PRIORITY:5
BEGIN:VALARM
TRIGGER:-PT330M
ACTION:DISPLAY
DESCRIPTION:Reminder
END:VALARM
END:VEVENT
BEGIN:VEVENT
DTSTART:2009-04-24T03:30:00Z
DTEND:2009-04-24T06:00:00Z
LOCATION:MM7: Marymoor, Field 7
CATEGORIES:Softball,Just A Bit Outside,BB/SAA
UID:5EB7BFAF6879E7478A1AF9BE39A28692:
DTSTAMP:2026-04-21T05:42:31Z:
SUMMARY:Just A Bit Outside at Overlake Christian
DESCRIPTION;ENCODING=QUOTED-PRINTABLE:Just A Bit Outside at Overlake Christian=0D=0A Time: 8:30 PM=0D=0A Location: Marymoor, Field 7
CLASS:PUBLIC
PRIORITY:5
BEGIN:VALARM
TRIGGER:-PT330M
ACTION:DISPLAY
DESCRIPTION:Reminder
END:VALARM
END:VEVENT
BEGIN:VEVENT
DTSTART:2009-05-01T03:30:00Z
DTEND:2009-05-01T06:00:00Z
LOCATION:MM7: Marymoor, Field 7
CATEGORIES:Softball,Just A Bit Outside,BB/SAA
UID:F54842528731FB459B4279387EC3EE1:
DTSTAMP:2026-04-21T05:42:31Z:
SUMMARY:Cook's Flooring at Just A Bit Outside
DESCRIPTION;ENCODING=QUOTED-PRINTABLE:Cook's Flooring at Just A Bit Outside=0D=0A Time: 8:30 PM=0D=0A Location: Marymoor, Field 7
CLASS:PUBLIC
PRIORITY:5
BEGIN:VALARM
TRIGGER:-PT330M
ACTION:DISPLAY
DESCRIPTION:Reminder
END:VALARM
END:VEVENT
BEGIN:VEVENT
DTSTART:2009-05-08T03:30:00Z
DTEND:2009-05-08T06:00:00Z
LOCATION:MM7: Marymoor, Field 7
CATEGORIES:Softball,Just A Bit Outside,BB/SAA
UID:782E414328F52B45A8FC4E753A86A85C:
DTSTAMP:2026-04-21T05:42:31Z:
SUMMARY:Just A Bit Outside at Bubs, The
DESCRIPTION;ENCODING=QUOTED-PRINTABLE:Just A Bit Outside at Bubs, The=0D=0A Time: 8:30 PM=0D=0A Location: Marymoor, Field 7
CLASS:PUBLIC
PRIORITY:5
BEGIN:VALARM
TRIGGER:-PT330M
ACTION:DISPLAY
DESCRIPTION:Reminder
END:VALARM
END:VEVENT
BEGIN:VEVENT
DTSTART:2009-05-15T03:30:00Z
DTEND:2009-05-15T06:00:00Z
LOCATION:MM7: Marymoor, Field 7
CATEGORIES:Softball,Just A Bit Outside,BB/SAA
UID:A7C2C71774BF7E42BEB74DFE8AC0BED0:
DTSTAMP:2026-04-21T05:42:31Z:
SUMMARY:Just A Bit Outside at Milliman Fighting Actuaries
DESCRIPTION;ENCODING=QUOTED-PRINTABLE:Just A Bit Outside at Milliman Fighting Actuaries=0D=0A Time: 8:30 PM=0D=0A Location: Marymoor, Field 7
CLASS:PUBLIC
PRIORITY:5
BEGIN:VALARM
TRIGGER:-PT330M
ACTION:DISPLAY
DESCRIPTION:Reminder
END:VALARM
END:VEVENT
BEGIN:VEVENT
DTSTART:2009-05-22T03:30:00Z
DTEND:2009-05-22T06:00:00Z
LOCATION:HV1: Hidden Valley, Field 1
CATEGORIES:Softball,Just A Bit Outside,BB/SAA
UID:B48549B59788E49A083B5432DA4424:
DTSTAMP:2026-04-21T05:42:31Z:
SUMMARY:Just A Bit Outside at WSP/PSES
DESCRIPTION;ENCODING=QUOTED-PRINTABLE:Just A Bit Outside at WSP/PSES=0D=0A Time: 8:30 PM=0D=0A Location: Hidden Valley, Field 1
CLASS:PUBLIC
PRIORITY:5
BEGIN:VALARM
TRIGGER:-PT330M
ACTION:DISPLAY
DESCRIPTION:Reminder
END:VALARM
END:VEVENT
BEGIN:VEVENT
DTSTART:2009-05-29T03:30:00Z
DTEND:2009-05-29T06:00:00Z
LOCATION:MM7: Marymoor, Field 7
CATEGORIES:Softball,Just A Bit Outside,BB/SAA
UID:4081A3A25125E44E893B80E110DE7BDE:
DTSTAMP:2026-04-21T05:42:31Z:
SUMMARY:Just A Bit Outside at Dukes
DESCRIPTION;ENCODING=QUOTED-PRINTABLE:Just A Bit Outside at Dukes=0D=0A Time: 8:30 PM=0D=0A Location: Marymoor, Field 7
CLASS:PUBLIC
PRIORITY:5
BEGIN:VALARM
TRIGGER:-PT330M
ACTION:DISPLAY
DESCRIPTION:Reminder
END:VALARM
END:VEVENT
BEGIN:VEVENT
DTSTART:2009-06-05T03:30:00Z
DTEND:2009-06-05T06:00:00Z
LOCATION:MM7: Marymoor, Field 7
CATEGORIES:Softball,Just A Bit Outside,BB/SAA
UID:AC557EFA0DB1E4C92AE12AAF1D9AD8:
DTSTAMP:2026-04-21T05:42:31Z:
SUMMARY:Drillers/D3VO at Just A Bit Outside
DESCRIPTION;ENCODING=QUOTED-PRINTABLE:Drillers/D3VO at Just A Bit Outside=0D=0A Time: 8:30 PM=0D=0A Location: Marymoor, Field 7
CLASS:PUBLIC
PRIORITY:5
BEGIN:VALARM
TRIGGER:-PT330M
ACTION:DISPLAY
DESCRIPTION:Reminder
END:VALARM
END:VEVENT
BEGIN:VEVENT
DTSTART:2009-06-12T01:00:00Z
DTEND:2009-06-12T03:30:00Z
LOCATION:MM7: Marymoor, Field 7
CATEGORIES:Softball,Just A Bit Outside,BB/SAA
UID:A473ACE42645A4B8732C54B2F24112E:
DTSTAMP:2026-04-21T05:42:31Z:
SUMMARY:Overlake Christian at Just A Bit Outside
DESCRIPTION;ENCODING=QUOTED-PRINTABLE:Overlake Christian at Just A Bit Outside=0D=0A Time: 6:00 PM=0D=0A Location: Marymoor, Field 7
CLASS:PUBLIC
PRIORITY:5
BEGIN:VALARM
TRIGGER:-PT180M
ACTION:DISPLAY
DESCRIPTION:Reminder
END:VALARM
END:VEVENT
BEGIN:VEVENT
DTSTART:2009-07-03T03:30:00Z
DTEND:2009-07-03T06:00:00Z
LOCATION:MM7: Marymoor, Field 7
CATEGORIES:Softball,Just A Bit Outside,BB/SAA
UID:88E63BD4B65A6240BBC26E5C1936BA8D:
DTSTAMP:2026-04-21T05:42:31Z:
SUMMARY:Just A Bit Outside at Milliman Fighting Actuaries
DESCRIPTION;ENCODING=QUOTED-PRINTABLE:Just A Bit Outside at Milliman Fighting Actuaries=0D=0A Time: 8:30 PM=0D=0A Location: Marymoor, Field 7
CLASS:PUBLIC
PRIORITY:5
BEGIN:VALARM
TRIGGER:-PT330M
ACTION:DISPLAY
DESCRIPTION:Reminder
END:VALARM
END:VEVENT
END:VCALENDAR
