BEGIN:VCALENDAR
PRODID:-//Microsoft Corporation//Outlook 11.0 MIMEDIR//EN
VERSION:2.0
METHOD:PUBLISH
BEGIN:VEVENT
DTSTART:2009-04-17T01:00:00Z
DTEND:2009-04-17T03:30:00Z
LOCATION:MM7: Marymoor, Field 7
CATEGORIES:Softball,Bubs, The,BB/SAA
UID:C1FEA81DA6D83643B0BC904CCF6EA23:
DTSTAMP:2026-04-21T07:15:49Z:
SUMMARY:Bubs, The at WSP/PSES
DESCRIPTION;ENCODING=QUOTED-PRINTABLE:Bubs, The at WSP/PSES=0D=0A Time: 6:00 PM=0D=0A Location: Marymoor, Field 7
CLASS:PUBLIC
PRIORITY:5
BEGIN:VALARM
TRIGGER:-PT180M
ACTION:DISPLAY
DESCRIPTION:Reminder
END:VALARM
END:VEVENT
BEGIN:VEVENT
DTSTART:2009-04-24T01:00:00Z
DTEND:2009-04-24T03:30:00Z
LOCATION:HV1: Hidden Valley, Field 1
CATEGORIES:Softball,Bubs, The,BB/SAA
UID:73C9BD2E487A954CB8E9DEA93DFA1250:
DTSTAMP:2026-04-21T07:15:49Z:
SUMMARY:Bubs, The at Cook's Flooring
DESCRIPTION;ENCODING=QUOTED-PRINTABLE:Bubs, The at Cook's Flooring=0D=0A Time: 6:00 PM=0D=0A Location: Hidden Valley, Field 1
CLASS:PUBLIC
PRIORITY:5
BEGIN:VALARM
TRIGGER:-PT180M
ACTION:DISPLAY
DESCRIPTION:Reminder
END:VALARM
END:VEVENT
BEGIN:VEVENT
DTSTART:2009-05-01T03:30:00Z
DTEND:2009-05-01T06:00:00Z
LOCATION:HV1: Hidden Valley, Field 1
CATEGORIES:Softball,Bubs, The,BB/SAA
UID:F5CC9CC8E4EB1A48BF5D9BDBF176D3AE:
DTSTAMP:2026-04-21T07:15:49Z:
SUMMARY:Bubs, The at Dukes
DESCRIPTION;ENCODING=QUOTED-PRINTABLE:Bubs, The at Dukes=0D=0A Time: 8:30 PM=0D=0A Location: Hidden Valley, Field 1
CLASS:PUBLIC
PRIORITY:5
BEGIN:VALARM
TRIGGER:-PT330M
ACTION:DISPLAY
DESCRIPTION:Reminder
END:VALARM
END:VEVENT
BEGIN:VEVENT
DTSTART:2009-05-08T03:30:00Z
DTEND:2009-05-08T06:00:00Z
LOCATION:MM7: Marymoor, Field 7
CATEGORIES:Softball,Bubs, The,BB/SAA
UID:2B45CE242504AA3CE3A2BBFA142A:
DTSTAMP:2026-04-21T07:15:49Z:
SUMMARY:Just A Bit Outside at Bubs, The
DESCRIPTION;ENCODING=QUOTED-PRINTABLE:Just A Bit Outside at Bubs, The=0D=0A Time: 8:30 PM=0D=0A Location: Marymoor, Field 7
CLASS:PUBLIC
PRIORITY:5
BEGIN:VALARM
TRIGGER:-PT330M
ACTION:DISPLAY
DESCRIPTION:Reminder
END:VALARM
END:VEVENT
BEGIN:VEVENT
DTSTART:2009-05-15T01:00:00Z
DTEND:2009-05-15T03:30:00Z
LOCATION:HV1: Hidden Valley, Field 1
CATEGORIES:Softball,Bubs, The,BB/SAA
UID:821A9F947770614FB02B90F02337BC9:
DTSTAMP:2026-04-21T07:15:49Z:
SUMMARY:Bubs, The at Drillers/D3VO
DESCRIPTION;ENCODING=QUOTED-PRINTABLE:Bubs, The at Drillers/D3VO=0D=0A Time: 6:00 PM=0D=0A Location: Hidden Valley, Field 1
CLASS:PUBLIC
PRIORITY:5
BEGIN:VALARM
TRIGGER:-PT180M
ACTION:DISPLAY
DESCRIPTION:Reminder
END:VALARM
END:VEVENT
BEGIN:VEVENT
DTSTART:2009-05-22T01:00:00Z
DTEND:2009-05-22T03:30:00Z
LOCATION:MM7: Marymoor, Field 7
CATEGORIES:Softball,Bubs, The,BB/SAA
UID:383E91577C679A48A4FF4C6EA282D7A6:
DTSTAMP:2026-04-21T07:15:49Z:
SUMMARY:Bubs, The at Milliman Fighting Actuaries
DESCRIPTION;ENCODING=QUOTED-PRINTABLE:Bubs, The at Milliman Fighting Actuaries=0D=0A Time: 6:00 PM=0D=0A Location: Marymoor, Field 7
CLASS:PUBLIC
PRIORITY:5
BEGIN:VALARM
TRIGGER:-PT180M
ACTION:DISPLAY
DESCRIPTION:Reminder
END:VALARM
END:VEVENT
BEGIN:VEVENT
DTSTART:2009-05-29T03:30:00Z
DTEND:2009-05-29T06:00:00Z
LOCATION:HV1: Hidden Valley, Field 1
CATEGORIES:Softball,Bubs, The,BB/SAA
UID:EDAACEF0DC5DAF49ADE05AA41B97F:
DTSTAMP:2026-04-21T07:15:49Z:
SUMMARY:Overlake Christian at Bubs, The
DESCRIPTION;ENCODING=QUOTED-PRINTABLE:Overlake Christian at Bubs, The=0D=0A Time: 8:30 PM=0D=0A Location: Hidden Valley, Field 1
CLASS:PUBLIC
PRIORITY:5
BEGIN:VALARM
TRIGGER:-PT330M
ACTION:DISPLAY
DESCRIPTION:Reminder
END:VALARM
END:VEVENT
BEGIN:VEVENT
DTSTART:2009-06-05T01:00:00Z
DTEND:2009-06-05T03:30:00Z
LOCATION:MM7: Marymoor, Field 7
CATEGORIES:Softball,Bubs, The,BB/SAA
UID:4F615B409427D545BADDCD1DCA8FF5F9:
DTSTAMP:2026-04-21T07:15:49Z:
SUMMARY:WSP/PSES at Bubs, The
DESCRIPTION;ENCODING=QUOTED-PRINTABLE:WSP/PSES at Bubs, The=0D=0A Time: 6:00 PM=0D=0A Location: Marymoor, Field 7
CLASS:PUBLIC
PRIORITY:5
BEGIN:VALARM
TRIGGER:-PT180M
ACTION:DISPLAY
DESCRIPTION:Reminder
END:VALARM
END:VEVENT
BEGIN:VEVENT
DTSTART:2009-06-12T01:00:00Z
DTEND:2009-06-12T03:30:00Z
LOCATION:HV1: Hidden Valley, Field 1
CATEGORIES:Softball,Bubs, The,BB/SAA
UID:24E989A32075A94AB037EA68D389D1AA:
DTSTAMP:2026-04-21T07:15:49Z:
SUMMARY:Cook's Flooring at Bubs, The
DESCRIPTION;ENCODING=QUOTED-PRINTABLE:Cook's Flooring at Bubs, The=0D=0A Time: 6:00 PM=0D=0A Location: Hidden Valley, Field 1
CLASS:PUBLIC
PRIORITY:5
BEGIN:VALARM
TRIGGER:-PT180M
ACTION:DISPLAY
DESCRIPTION:Reminder
END:VALARM
END:VEVENT
BEGIN:VEVENT
DTSTART:2009-06-26T01:00:00Z
DTEND:2009-06-26T03:30:00Z
LOCATION:SAM2: Sammamish High School, Field 2
CATEGORIES:Softball,Bubs, The,BB/SAA
UID:8B5FBEFA0C94D4189EA1E635B32050:
DTSTAMP:2026-04-21T07:15:49Z:
SUMMARY:Bubs, The at Drillers/D3VO
DESCRIPTION;ENCODING=QUOTED-PRINTABLE:Bubs, The at Drillers/D3VO=0D=0A Time: 6:00 PM=0D=0A Location: Sammamish High School, Field 2
CLASS:PUBLIC
PRIORITY:5
BEGIN:VALARM
TRIGGER:-PT180M
ACTION:DISPLAY
DESCRIPTION:Reminder
END:VALARM
END:VEVENT
END:VCALENDAR
